BEGIN:VCALENDAR
VERSION:2.0
PRODID:-//Geflügelzüchter Datenbank//Schaukalender//DE
CALSCALE:GREGORIAN
METHOD:PUBLISH
BEGIN:VEVENT
UID:schau-1@rasse-gefluegel-zuechter.de
DTSTAMP:20260423T130702Z
DTSTART;VALUE=DATE:20261024
DTEND;VALUE=DATE:20261026
SUMMARY:47. Mucher Rasse- und Ziergeflügelschau mit Kreisschau 🐓
LOCATION:📍 Veranstaltungsort Sülzberghalle Much Klosterstr. 2 — 53804 Much
DESCRIPTION:Eines der schönsten Herbst-Highlights im Rhein-Sieg-Kreis steht wieder an — die Mucher Rasse- und Ziergeflügelschau lädt Züchter, Liebhaber und Neugierige aus nah und fern herzlich ein!    Der Rassegeflügelzuchtverein Much 1977 e.V. lädt zur 47. Mucher Rasse- und Ziergeflügelschau ein. An zwei Tagen präsentieren unsere Züchterinnen und Züchter ihre schönsten Tiere — von klassischen Hühnerrassen über Ziergeflügel bis hin zu Tauben und Wassergeflügel. Ob erfahrener Züchter oder neugieriger Besucher — für jeden ist etwas dabei!
END:VEVENT
END:VCALENDAR
