BEGIN:VCALENDAR
VERSION:2.0
PRODID:-//Geflügelzüchter Datenbank//Schaukalender//DE
CALSCALE:GREGORIAN
METHOD:PUBLISH
BEGIN:VEVENT
UID:schau-10@rasse-gefluegel-zuechter.de
DTSTAMP:20260423T130702Z
DTSTART;VALUE=DATE:20261025
DTEND;VALUE=DATE:20261027
SUMMARY:Landesverbandsschau Rheinland-Pfalz\, Landesverbands-Jugendschau
LOCATION:Töngeshalle Mainz-Ebersheim 55129 Mainz-Ebersheim
DESCRIPTION:Landesverbandsschau Rheinland-Pfalz.
END:VEVENT
END:VCALENDAR
