BEGIN:VCALENDAR
VERSION:2.0
PRODID:-//Geflügelzüchter Datenbank//Schaukalender//DE
CALSCALE:GREGORIAN
METHOD:PUBLISH
BEGIN:VEVENT
UID:schau-11@rasse-gefluegel-zuechter.de
DTSTAMP:20260423T130713Z
DTSTART;VALUE=DATE:20261101
DTEND;VALUE=DATE:20261103
SUMMARY:Landesverbandsschau Kurhessen\, Landesverbands-Jugendschau
LOCATION:Reithalle an der Eder Jakobsruh\, 34560 Fritzlar
DESCRIPTION:Landesverbandsschau Kurhessen.
END:VEVENT
END:VCALENDAR
