BEGIN:VCALENDAR
VERSION:2.0
PRODID:-//Geflügelzüchter Datenbank//Schaukalender//DE
CALSCALE:GREGORIAN
METHOD:PUBLISH
BEGIN:VEVENT
UID:schau-12@rasse-gefluegel-zuechter.de
DTSTAMP:20260423T130515Z
DTSTART;VALUE=DATE:20261108
DTEND;VALUE=DATE:20261110
SUMMARY:Landesverbandsschau Berlin-Brandenburg\, Landesverbands-Jugendschau\, Ziergeflügelschau
LOCATION:MAFZ Paaren/Glien Gartenstraße 1-3\, 14621 Schönwalde-Glien
DESCRIPTION:Kombinierte LV-Schau Berlin-Brandenburg.
END:VEVENT
END:VCALENDAR
