BEGIN:VCALENDAR
VERSION:2.0
PRODID:-//Geflügelzüchter Datenbank//Schaukalender//DE
CALSCALE:GREGORIAN
METHOD:PUBLISH
BEGIN:VEVENT
UID:schau-13@rasse-gefluegel-zuechter.de
DTSTAMP:20260423T130415Z
DTSTART;VALUE=DATE:20261112
DTEND;VALUE=DATE:20261116
SUMMARY:69. Landesgeflügelschau Schwaben
LOCATION:Schwabenhalle Laugnastr. 60\, 86637 Wertingen
DESCRIPTION:Landesgeflügelschau Schwaben (Bayern).
END:VEVENT
END:VCALENDAR
