BEGIN:VCALENDAR
VERSION:2.0
PRODID:-//Geflügelzüchter Datenbank//Schaukalender//DE
CALSCALE:GREGORIAN
METHOD:PUBLISH
BEGIN:VEVENT
UID:schau-14@rasse-gefluegel-zuechter.de
DTSTAMP:20260423T130651Z
DTSTART;VALUE=DATE:20261017
DTEND;VALUE=DATE:20261019
SUMMARY:64. Niederbayerische Rassegeflügelschau
LOCATION:Rottschleife Pfarrkirchen
DESCRIPTION:Niederbayerische Rassegeflügelschau.
END:VEVENT
END:VCALENDAR
