BEGIN:VCALENDAR
VERSION:2.0
PRODID:-//Geflügelzüchter Datenbank//Schaukalender//DE
CALSCALE:GREGORIAN
METHOD:PUBLISH
BEGIN:VEVENT
UID:schau-15@rasse-gefluegel-zuechter.de
DTSTAMP:20260423T130713Z
DTSTART;VALUE=DATE:20261003
DTEND;VALUE=DATE:20261004
SUMMARY:2. Gäubodenjunggeflügelschau Straßkirchen
LOCATION:Ausstellungshalle Straßkirchen
DESCRIPTION:Junggeflügelschau Straßkirchen.
END:VEVENT
END:VCALENDAR
