BEGIN:VCALENDAR
VERSION:2.0
PRODID:-//Geflügelzüchter Datenbank//Schaukalender//DE
CALSCALE:GREGORIAN
METHOD:PUBLISH
BEGIN:VEVENT
UID:schau-16@rasse-gefluegel-zuechter.de
DTSTAMP:20260423T130350Z
DTSTART;VALUE=DATE:20261016
DTEND;VALUE=DATE:20261019
SUMMARY:76. Kreisschau KTZV Ebensfeld
LOCATION:Hallen der Fa. Zellmann Ebensfeld
DESCRIPTION:Kreisschau des KTZV Ebensfeld.
END:VEVENT
END:VCALENDAR
