BEGIN:VCALENDAR
VERSION:2.0
PRODID:-//Geflügelzüchter Datenbank//Schaukalender//DE
CALSCALE:GREGORIAN
METHOD:PUBLISH
BEGIN:VEVENT
UID:schau-17@rasse-gefluegel-zuechter.de
DTSTAMP:20260423T130514Z
DTSTART;VALUE=DATE:20261107
DTEND;VALUE=DATE:20261109
SUMMARY:Bezirks- und Bezirksjugendschau Gestungshausen
LOCATION:Gestungshausen KTZV Sonnefeld
DESCRIPTION:Bezirks- und Jugendschau Oberfranken.
END:VEVENT
END:VCALENDAR
