BEGIN:VCALENDAR
VERSION:2.0
PRODID:-//Geflügelzüchter Datenbank//Schaukalender//DE
CALSCALE:GREGORIAN
METHOD:PUBLISH
BEGIN:VEVENT
UID:schau-18@rasse-gefluegel-zuechter.de
DTSTAMP:20260423T130350Z
DTSTART;VALUE=DATE:20260919
DTEND;VALUE=DATE:20260920
SUMMARY:GZV Ritterhude – Jungtierbesprechung
LOCATION:Vereinsgelände Bremer Str. 45\, 27711 Osterholz-Scharmbeck
DESCRIPTION:Jungtierbesprechung des GZV Ritterhude.
END:VEVENT
END:VCALENDAR
