BEGIN:VCALENDAR
VERSION:2.0
PRODID:-//Geflügelzüchter Datenbank//Schaukalender//DE
CALSCALE:GREGORIAN
METHOD:PUBLISH
BEGIN:VEVENT
UID:schau-19@rasse-gefluegel-zuechter.de
DTSTAMP:20260423T130508Z
DTSTART;VALUE=DATE:20261010
DTEND;VALUE=DATE:20261012
SUMMARY:GZV Grasberg – Rassegeflügelschau
LOCATION:Reithalle Wörpedorferstr. 17\, 28879 Grasberg
DESCRIPTION:Vereinsschau Grasberg.
END:VEVENT
END:VCALENDAR
