BEGIN:VCALENDAR
VERSION:2.0
PRODID:-//Geflügelzüchter Datenbank//Schaukalender//DE
CALSCALE:GREGORIAN
METHOD:PUBLISH
BEGIN:VEVENT
UID:schau-2@rasse-gefluegel-zuechter.de
DTSTAMP:20260423T125853Z
DTSTART;VALUE=DATE:20260514
DTEND;VALUE=DATE:20260515
SUMMARY:Rassegeflügelzuchtverein Much 1977 e.V. – Hähnewettkrähen
LOCATION:Spielplatz Much-Berzbach 53804 Much Berzbach auf dem Spielplatz
DESCRIPTION:Stimmbänder ölen und los geht's! Am Vatertag ist es wieder soweit: Wir laden herzlich ein zum traditionellen offenen Hähnewettkrähen in Much-Berzbach.
END:VEVENT
END:VCALENDAR
