BEGIN:VCALENDAR
VERSION:2.0
PRODID:-//Geflügelzüchter Datenbank//Schaukalender//DE
CALSCALE:GREGORIAN
METHOD:PUBLISH
BEGIN:VEVENT
UID:schau-21@rasse-gefluegel-zuechter.de
DTSTAMP:20260423T130723Z
DTSTART;VALUE=DATE:20261024
DTEND;VALUE=DATE:20261026
SUMMARY:KV Aller-Weser-Wümme – Kreisverbandsschau
LOCATION:Lahofhalle Achim-Baden
DESCRIPTION:Kreisverbandsschau KV Aller-Weser-Wümme.
END:VEVENT
END:VCALENDAR
