BEGIN:VCALENDAR
VERSION:2.0
PRODID:-//Geflügelzüchter Datenbank//Schaukalender//DE
CALSCALE:GREGORIAN
METHOD:PUBLISH
BEGIN:VEVENT
UID:schau-22@rasse-gefluegel-zuechter.de
DTSTAMP:20260423T130045Z
DTSTART;VALUE=DATE:20261031
DTEND;VALUE=DATE:20261102
SUMMARY:GZV Ottersberg – Vereinsschau
LOCATION:Schützenhalle Ottersberg
DESCRIPTION:Vereinsschau Ottersberg.
END:VEVENT
END:VCALENDAR
