BEGIN:VCALENDAR
VERSION:2.0
PRODID:-//Geflügelzüchter Datenbank//Schaukalender//DE
CALSCALE:GREGORIAN
METHOD:PUBLISH
BEGIN:VEVENT
UID:schau-23@rasse-gefluegel-zuechter.de
DTSTAMP:20260423T130345Z
DTSTART;VALUE=DATE:20261031
DTEND;VALUE=DATE:20261102
SUMMARY:GZV Rotenburg – Allgemeine Rassegeflügelschau
LOCATION:Festhalle Gasthaus Hoops 27367 Bötersen
DESCRIPTION:Allgemeine Rassegeflügelschau Rotenburg.
END:VEVENT
END:VCALENDAR
