BEGIN:VCALENDAR
VERSION:2.0
PRODID:-//Geflügelzüchter Datenbank//Schaukalender//DE
CALSCALE:GREGORIAN
METHOD:PUBLISH
BEGIN:VEVENT
UID:schau-24@rasse-gefluegel-zuechter.de
DTSTAMP:20260423T130526Z
DTSTART;VALUE=DATE:20261114
DTEND;VALUE=DATE:20261116
SUMMARY:KTZV Etelsen – Allgemeine Rassegeflügelschau
LOCATION:Mehrzweckhalle 27299 Cluvenhagen
DESCRIPTION:Allgemeine Rassegeflügelschau Etelsen.
END:VEVENT
END:VCALENDAR
