BEGIN:VCALENDAR
VERSION:2.0
PRODID:-//Geflügelzüchter Datenbank//Schaukalender//DE
CALSCALE:GREGORIAN
METHOD:PUBLISH
BEGIN:VEVENT
UID:schau-25@rasse-gefluegel-zuechter.de
DTSTAMP:20260423T130651Z
DTSTART;VALUE=DATE:20261114
DTEND;VALUE=DATE:20261116
SUMMARY:GZV Gnarrenburg – Vereinsschau
LOCATION:Vereinsgelände Augustendorf Nr. 32\, Gnarrenburg
DESCRIPTION:Vereinsschau Gnarrenburg.
END:VEVENT
END:VCALENDAR
