BEGIN:VCALENDAR
VERSION:2.0
PRODID:-//Geflügelzüchter Datenbank//Schaukalender//DE
CALSCALE:GREGORIAN
METHOD:PUBLISH
BEGIN:VEVENT
UID:schau-27@rasse-gefluegel-zuechter.de
DTSTAMP:20260423T130545Z
DTSTART;VALUE=DATE:20261121
DTEND;VALUE=DATE:20261123
SUMMARY:KTZV Tettau – Kreisschau Rassegeflügel & Kaninchen
LOCATION:Vereinsheim Tettau Tettau
DESCRIPTION:Kreisschau KV Senftenberg mit Rassegeflügel und Kaninchen.
END:VEVENT
END:VCALENDAR
