BEGIN:VCALENDAR
VERSION:2.0
PRODID:-//Geflügelzüchter Datenbank//Schaukalender//DE
CALSCALE:GREGORIAN
METHOD:PUBLISH
BEGIN:VEVENT
UID:schau-3@rasse-gefluegel-zuechter.de
DTSTAMP:20260423T125853Z
DTSTART;VALUE=DATE:20261023
DTEND;VALUE=DATE:20261026
SUMMARY:142. Deutsche Junggeflügelschau Hannover (Bad Salzuflen)
LOCATION:Messezentrum Bad Salzuflen Messezentrum\, 32107 Bad Salzuflen
DESCRIPTION:Traditionelle Deutsche Junggeflügelschau.
END:VEVENT
END:VCALENDAR
