BEGIN:VCALENDAR
VERSION:2.0
PRODID:-//Geflügelzüchter Datenbank//Schaukalender//DE
CALSCALE:GREGORIAN
METHOD:PUBLISH
BEGIN:VEVENT
UID:schau-32@rasse-gefluegel-zuechter.de
DTSTAMP:20260423T130122Z
DTSTART;VALUE=DATE:20260412
DTEND;VALUE=DATE:20260413
SUMMARY:Hähnewettkrähen RGZV Selfkant
LOCATION:Bauernmuseum Tüddern 52538 Selfkant-Tüddern
DESCRIPTION:Hähnewettkrähen des RGZV Selfkant.
END:VEVENT
END:VCALENDAR
