BEGIN:VCALENDAR
VERSION:2.0
PRODID:-//Geflügelzüchter Datenbank//Schaukalender//DE
CALSCALE:GREGORIAN
METHOD:PUBLISH
BEGIN:VEVENT
UID:schau-33@rasse-gefluegel-zuechter.de
DTSTAMP:20260423T130014Z
DTSTART;VALUE=DATE:20260425
DTEND;VALUE=DATE:20260426
SUMMARY:Tag des offenen Stalls – Marion Braun
LOCATION:Privathof Marion Braun 41836 Hückelhoven-Baal
DESCRIPTION:Tag des offenen Stalls in Hückelhoven-Baal.
END:VEVENT
END:VCALENDAR
