BEGIN:VCALENDAR
VERSION:2.0
PRODID:-//Geflügelzüchter Datenbank//Schaukalender//DE
CALSCALE:GREGORIAN
METHOD:PUBLISH
BEGIN:VEVENT
UID:schau-34@rasse-gefluegel-zuechter.de
DTSTAMP:20260423T130218Z
DTSTART;VALUE=DATE:20260829
DTEND;VALUE=DATE:20260830
SUMMARY:Tag des offenen Stalls – Stefan Thönnissen
LOCATION:Privathof Stefan Thönnissen 41849 Wassenberg-Orsbeck
DESCRIPTION:Tag des offenen Stalls in Wassenberg-Orsbeck.
END:VEVENT
END:VCALENDAR
