BEGIN:VCALENDAR
VERSION:2.0
PRODID:-//Geflügelzüchter Datenbank//Schaukalender//DE
CALSCALE:GREGORIAN
METHOD:PUBLISH
BEGIN:VEVENT
UID:schau-37@rasse-gefluegel-zuechter.de
DTSTAMP:20260423T130202Z
DTSTART;VALUE=DATE:20261107
DTEND;VALUE=DATE:20261109
SUMMARY:Ausstellung RGZV Selfkant und Umgebung
LOCATION:Ausstellungshalle Selfkant 52538 Selfkant
DESCRIPTION:Ausstellung des RGZV Selfkant und Umgebung.
END:VEVENT
END:VCALENDAR
