BEGIN:VCALENDAR
VERSION:2.0
PRODID:-//Geflügelzüchter Datenbank//Schaukalender//DE
CALSCALE:GREGORIAN
METHOD:PUBLISH
BEGIN:VEVENT
UID:schau-38@rasse-gefluegel-zuechter.de
DTSTAMP:20260423T130415Z
DTSTART;VALUE=DATE:20261212
DTEND;VALUE=DATE:20261214
SUMMARY:Ausstellung Geflügelfreunde Brachelen
LOCATION:Dorfgemeinschaftshaus Brachelen 41836 Brachelen
DESCRIPTION:Ausstellung der Geflügelfreunde Brachelen.
END:VEVENT
END:VCALENDAR
