BEGIN:VCALENDAR
VERSION:2.0
PRODID:-//Geflügelzüchter Datenbank//Schaukalender//DE
CALSCALE:GREGORIAN
METHOD:PUBLISH
BEGIN:VEVENT
UID:schau-39@rasse-gefluegel-zuechter.de
DTSTAMP:20260423T130415Z
DTSTART;VALUE=DATE:20261017
DTEND;VALUE=DATE:20261019
SUMMARY:Ausstellung RGZV Viersen
LOCATION:Ausstellungshalle Viersen 41747 Viersen
DESCRIPTION:Rassegeflügelausstellung des RGZV Viersen.
END:VEVENT
END:VCALENDAR
