BEGIN:VCALENDAR
VERSION:2.0
PRODID:-//Geflügelzüchter Datenbank//Schaukalender//DE
CALSCALE:GREGORIAN
METHOD:PUBLISH
BEGIN:VEVENT
UID:schau-4@rasse-gefluegel-zuechter.de
DTSTAMP:20260423T125852Z
DTSTART;VALUE=DATE:20261204
DTEND;VALUE=DATE:20261207
SUMMARY:108. Nationale\, 63. Bundesjugendschau\, 130. Lipsia-Schau
LOCATION:Messe Leipzig Neue Messe\, 04356 Leipzig
DESCRIPTION:Große Nationale Schau mit Bundesjugendschau und Lipsia.
END:VEVENT
END:VCALENDAR
