BEGIN:VCALENDAR
VERSION:2.0
PRODID:-//Geflügelzüchter Datenbank//Schaukalender//DE
CALSCALE:GREGORIAN
METHOD:PUBLISH
BEGIN:VEVENT
UID:schau-40@rasse-gefluegel-zuechter.de
DTSTAMP:20260423T130014Z
DTSTART;VALUE=DATE:20261031
DTEND;VALUE=DATE:20261102
SUMMARY:Ausstellung RGZV Krefeld
LOCATION:Ausstellungshalle Krefeld 47803 Krefeld
DESCRIPTION:Ausstellung des RGZV Krefeld.
END:VEVENT
END:VCALENDAR
