BEGIN:VCALENDAR
VERSION:2.0
PRODID:-//Geflügelzüchter Datenbank//Schaukalender//DE
CALSCALE:GREGORIAN
METHOD:PUBLISH
BEGIN:VEVENT
UID:schau-44@rasse-gefluegel-zuechter.de
DTSTAMP:20260423T130015Z
DTSTART;VALUE=DATE:20261010
DTEND;VALUE=DATE:20261012
SUMMARY:Bauernmarkt Bergheim-Langenbroich – Geflügelschau
LOCATION:Bauernmarkt Bergheim-Langenbroich 50127 Bergheim-Langenbroich
DESCRIPTION:Geflügelschau im Rahmen des Bauernmarkts.
END:VEVENT
END:VCALENDAR
