BEGIN:VCALENDAR
VERSION:2.0
PRODID:-//Geflügelzüchter Datenbank//Schaukalender//DE
CALSCALE:GREGORIAN
METHOD:PUBLISH
BEGIN:VEVENT
UID:schau-5@rasse-gefluegel-zuechter.de
DTSTAMP:20260423T125902Z
DTSTART;VALUE=DATE:20261218
DTEND;VALUE=DATE:20261221
SUMMARY:75. Deutsche Rassetaubenschau
LOCATION:Messe Ulm Messegelände\, 89081 Ulm
DESCRIPTION:Jubiläumsschau der Deutschen Rassetaubenzüchter.
END:VEVENT
END:VCALENDAR
