BEGIN:VCALENDAR
VERSION:2.0
PRODID:-//Geflügelzüchter Datenbank//Schaukalender//DE
CALSCALE:GREGORIAN
METHOD:PUBLISH
BEGIN:VEVENT
UID:schau-50@rasse-gefluegel-zuechter.de
DTSTAMP:20260423T130202Z
DTSTART;VALUE=DATE:20261003
DTEND;VALUE=DATE:20261005
SUMMARY:Ausstellung RGZV Odenkirchen – Herbstmarkt Haus Hohenbusch
LOCATION:Haus Hohenbusch 41812 Erkelenz-Odenkirchen
DESCRIPTION:Ausstellung des RGZV Odenkirchen auf dem Herbstmarkt.
END:VEVENT
END:VCALENDAR
