BEGIN:VCALENDAR
VERSION:2.0
PRODID:-//Geflügelzüchter Datenbank//Schaukalender//DE
CALSCALE:GREGORIAN
METHOD:PUBLISH
BEGIN:VEVENT
UID:schau-51@rasse-gefluegel-zuechter.de
DTSTAMP:20260423T130723Z
DTSTART;VALUE=DATE:20261024
DTEND;VALUE=DATE:20261026
SUMMARY:Ausstellung RGZV Edle Zucht Hückelhoven
LOCATION:Dorfgemeinschaftshaus Doveren 41836 Hückelhoven-Doveren
DESCRIPTION:Ausstellung des RGZV Edle Zucht Hückelhoven.
END:VEVENT
END:VCALENDAR
