BEGIN:VCALENDAR
VERSION:2.0
PRODID:-//Geflügelzüchter Datenbank//Schaukalender//DE
CALSCALE:GREGORIAN
METHOD:PUBLISH
BEGIN:VEVENT
UID:schau-56@rasse-gefluegel-zuechter.de
DTSTAMP:20260423T125901Z
DTSTART;VALUE=DATE:20261121
DTEND;VALUE=DATE:20261123
SUMMARY:Ausstellung RGZV Krefeld-Hüls
LOCATION:Rinder-Union Krefeld 47839 Krefeld-Hüls
DESCRIPTION:Ausstellung des RGZV Krefeld-Hüls.
END:VEVENT
END:VCALENDAR
