BEGIN:VCALENDAR
VERSION:2.0
PRODID:-//Geflügelzüchter Datenbank//Schaukalender//DE
CALSCALE:GREGORIAN
METHOD:PUBLISH
BEGIN:VEVENT
UID:schau-57@rasse-gefluegel-zuechter.de
DTSTAMP:20260423T130514Z
DTSTART;VALUE=DATE:20261024
DTEND;VALUE=DATE:20261026
SUMMARY:42. Merbecker Grenzlandschau
LOCATION:Ausstellungsgelände Merbeck 41366 Merbeck
DESCRIPTION:Grenzlandschau Merbeck.
END:VEVENT
END:VCALENDAR
