BEGIN:VCALENDAR
VERSION:2.0
PRODID:-//Geflügelzüchter Datenbank//Schaukalender//DE
CALSCALE:GREGORIAN
METHOD:PUBLISH
BEGIN:VEVENT
UID:schau-58@rasse-gefluegel-zuechter.de
DTSTAMP:20260423T130344Z
DTSTART;VALUE=DATE:20261114
DTEND;VALUE=DATE:20261116
SUMMARY:Landesverbandsschau Rheinland 2026
LOCATION:Gartenbau Elbers Ottersweg 6\, 47624 Kevelaer
DESCRIPTION:Landesverbandsschau des LV Rheinland in Kevelaer.
END:VEVENT
END:VCALENDAR
