BEGIN:VCALENDAR
VERSION:2.0
PRODID:-//Geflügelzüchter Datenbank//Schaukalender//DE
CALSCALE:GREGORIAN
METHOD:PUBLISH
BEGIN:VEVENT
UID:schau-6@rasse-gefluegel-zuechter.de
DTSTAMP:20260423T130014Z
DTSTART;VALUE=DATE:20261016
DTEND;VALUE=DATE:20261019
SUMMARY:53. VHGW Bundesschau\, 98. Deutsche Zwerghuhnschau\, 58. LV-Schau Thüringen\, 36. Erfordia-Junggeflügelschau
LOCATION:Messe Erfurt Messegelände\, 99094 Erfurt
DESCRIPTION:Große Bundesschau mit mehreren angeschlossenen Schauen.
END:VEVENT
END:VCALENDAR
