BEGIN:VCALENDAR
VERSION:2.0
PRODID:-//Geflügelzüchter Datenbank//Schaukalender//DE
CALSCALE:GREGORIAN
METHOD:PUBLISH
BEGIN:VEVENT
UID:schau-60@rasse-gefluegel-zuechter.de
DTSTAMP:20260423T130508Z
DTSTART;VALUE=DATE:20261031
DTEND;VALUE=DATE:20261102
SUMMARY:Kreisverbands- und Neffeltalschau Nörvenich
LOCATION:Ausstellungshalle Nörvenich 52388 Nörvenich
DESCRIPTION:Kreisverbands- und Neffeltalschau.
END:VEVENT
END:VCALENDAR
