BEGIN:VCALENDAR
VERSION:2.0
PRODID:-//Geflügelzüchter Datenbank//Schaukalender//DE
CALSCALE:GREGORIAN
METHOD:PUBLISH
BEGIN:VEVENT
UID:schau-61@rasse-gefluegel-zuechter.de
DTSTAMP:20260423T130713Z
DTSTART;VALUE=DATE:20261121
DTEND;VALUE=DATE:20261123
SUMMARY:65. Lokalschau & 3. Rurtalschau
LOCATION:Rurtalhalle 52379 Langerwehe-Rurtal
DESCRIPTION:Lokalschau und Rurtalschau.
END:VEVENT
END:VCALENDAR
