BEGIN:VCALENDAR
VERSION:2.0
PRODID:-//Geflügelzüchter Datenbank//Schaukalender//DE
CALSCALE:GREGORIAN
METHOD:PUBLISH
BEGIN:VEVENT
UID:schau-62@rasse-gefluegel-zuechter.de
DTSTAMP:20260423T130834Z
DTSTART;VALUE=DATE:20260425
DTEND;VALUE=DATE:20260427
SUMMARY:Landesschau Baden – Badischer Züchtertag
LOCATION:Dielheim (KV Heidelberg) Vereinsheim\, 69234 Dielheim
DESCRIPTION:Landesverbandstagung und Badischer Züchtertag.
END:VEVENT
END:VCALENDAR
