BEGIN:VCALENDAR
VERSION:2.0
PRODID:-//Geflügelzüchter Datenbank//Schaukalender//DE
CALSCALE:GREGORIAN
METHOD:PUBLISH
BEGIN:VEVENT
UID:schau-65@rasse-gefluegel-zuechter.de
DTSTAMP:20260423T130007Z
DTSTART;VALUE=DATE:20261023
DTEND;VALUE=DATE:20261026
SUMMARY:Kreisschau & Freisinger Geflügelschau
LOCATION:Mehrzweckhalle Freising Am Sportplatz 3\, 85356 Freising
DESCRIPTION:Kreisschau mit Sonderschauen.
END:VEVENT
END:VCALENDAR
