BEGIN:VCALENDAR
VERSION:2.0
PRODID:-//Geflügelzüchter Datenbank//Schaukalender//DE
CALSCALE:GREGORIAN
METHOD:PUBLISH
BEGIN:VEVENT
UID:schau-66@rasse-gefluegel-zuechter.de
DTSTAMP:20260423T130525Z
DTSTART;VALUE=DATE:20261003
DTEND;VALUE=DATE:20261005
SUMMARY:Grönegau-Geflügelschau mit HSS Bremer Tümmler
LOCATION:Hof Marahrens\, Melle-Gerden Riemsloher Str. 70\, 49324 Melle-Gerden
DESCRIPTION:Ortsschau mit Hauptsonderschau Bremer Tümmler.
END:VEVENT
END:VCALENDAR
