BEGIN:VCALENDAR
VERSION:2.0
PRODID:-//Geflügelzüchter Datenbank//Schaukalender//DE
CALSCALE:GREGORIAN
METHOD:PUBLISH
BEGIN:VEVENT
UID:schau-67@rasse-gefluegel-zuechter.de
DTSTAMP:20260423T130147Z
DTSTART;VALUE=DATE:20261017
DTEND;VALUE=DATE:20261019
SUMMARY:Meller Stadt-Schau (RGZV Bruchmühlen\, GZV Gerden\, RGZV Neuenkirchen)
LOCATION:Maschinenhalle Erdbeerhof Böckmann Rahdenstr.\, 49401 Damme
DESCRIPTION:Stadtschau der Vereine RGZV Bruchmühlen, GZV Gerden, RGZV Neuenkirchen.
END:VEVENT
END:VCALENDAR
