BEGIN:VCALENDAR
VERSION:2.0
PRODID:-//Geflügelzüchter Datenbank//Schaukalender//DE
CALSCALE:GREGORIAN
METHOD:PUBLISH
BEGIN:VEVENT
UID:schau-68@rasse-gefluegel-zuechter.de
DTSTAMP:20260423T130319Z
DTSTART;VALUE=DATE:20261031
DTEND;VALUE=DATE:20261102
SUMMARY:KV-Stammschau Osnabrück mit HSS
LOCATION:Fahrzeughalle Wellbrock\, Alfhausen Alfseestr.\, 49586 Alfhausen
DESCRIPTION:Kreisverbandsschau Osnabrück mit Hauptsonderschau.
END:VEVENT
END:VCALENDAR
