BEGIN:VCALENDAR
VERSION:2.0
PRODID:-//Geflügelzüchter Datenbank//Schaukalender//DE
CALSCALE:GREGORIAN
METHOD:PUBLISH
BEGIN:VEVENT
UID:schau-69@rasse-gefluegel-zuechter.de
DTSTAMP:20260423T130723Z
DTSTART;VALUE=DATE:20261107
DTEND;VALUE=DATE:20261109
SUMMARY:Haseland-Geflügelschau mit HSS Elsterkröpfer
LOCATION:Schieß-Sportzentrum Bramsche Lutterdamm 85\, 49565 Bramsche
DESCRIPTION:Haseland-Geflügelschau mit Hauptsonderschau Elsterkröpfer.
END:VEVENT
END:VCALENDAR
