BEGIN:VCALENDAR
VERSION:2.0
PRODID:-//Geflügelzüchter Datenbank//Schaukalender//DE
CALSCALE:GREGORIAN
METHOD:PUBLISH
BEGIN:VEVENT
UID:schau-70@rasse-gefluegel-zuechter.de
DTSTAMP:20260423T130344Z
DTSTART;VALUE=DATE:20261031
DTEND;VALUE=DATE:20261102
SUMMARY:Lokalschau GZV Bohmte mit HSS Bremer Tümmler
LOCATION:Reithalle Bohmte Schützenstr. 5\, 49163 Bohmte
DESCRIPTION:Lokalschau mit HSS Bremer Tümmler und SS Strasser.
END:VEVENT
END:VCALENDAR
