BEGIN:VCALENDAR
VERSION:2.0
PRODID:-//Geflügelzüchter Datenbank//Schaukalender//DE
CALSCALE:GREGORIAN
METHOD:PUBLISH
BEGIN:VEVENT
UID:schau-71@rasse-gefluegel-zuechter.de
DTSTAMP:20260423T125852Z
DTSTART;VALUE=DATE:20260807
DTEND;VALUE=DATE:20260810
SUMMARY:Jugendzeltlager des Sächsischen Rassegeflügelzüchterverbandes
LOCATION:Sportplatz Schönbrunn Zum Sportplatz 99\, 08606 Bösenbrunn OT Schönbrunn
DESCRIPTION:Jugendzeltlager mit Geflügelausstellung des LV Sachsen.
END:VEVENT
END:VCALENDAR
