BEGIN:VCALENDAR
VERSION:2.0
PRODID:-//Geflügelzüchter Datenbank//Schaukalender//DE
CALSCALE:GREGORIAN
METHOD:PUBLISH
BEGIN:VEVENT
UID:schau-72@rasse-gefluegel-zuechter.de
DTSTAMP:20260423T130008Z
DTSTART;VALUE=DATE:20260325
DTEND;VALUE=DATE:20260330
SUMMARY:Rheinland-Pfalz-Ausstellung – Leistungsschau des Bundeslandes
LOCATION:Messepark Mainz-Hechtsheim Genfer Allee 1-5\, 55129 Mainz
DESCRIPTION:Leistungsschau des Landes Rheinland-Pfalz.
END:VEVENT
END:VCALENDAR
