BEGIN:VCALENDAR
VERSION:2.0
PRODID:-//Geflügelzüchter Datenbank//Schaukalender//DE
CALSCALE:GREGORIAN
METHOD:PUBLISH
BEGIN:VEVENT
UID:schau-73@rasse-gefluegel-zuechter.de
DTSTAMP:20260423T125901Z
DTSTART;VALUE=DATE:20261114
DTEND;VALUE=DATE:20261116
SUMMARY:Kreisverbandsschau Schleswig-Holstein mit Jugendschau
LOCATION:Landwirtschaftsmuseum Schleswig Lollfuß 83-85\, 24837 Schleswig
DESCRIPTION:Kreisverbandsschau Schleswig-Holstein mit Jugendschau.
END:VEVENT
END:VCALENDAR
