BEGIN:VCALENDAR
VERSION:2.0
PRODID:-//Geflügelzüchter Datenbank//Schaukalender//DE
CALSCALE:GREGORIAN
METHOD:PUBLISH
BEGIN:VEVENT
UID:schau-74@rasse-gefluegel-zuechter.de
DTSTAMP:20260423T130045Z
DTSTART;VALUE=DATE:20260510
DTEND;VALUE=DATE:20260511
SUMMARY:BDRG-Bundestagung in Seligenstadt
LOCATION:Seligenstadt Vereinsheim\, 63500 Seligenstadt
DESCRIPTION:Jahreshauptversammlung des BDRG / LV Hessen-Nassau.
END:VEVENT
END:VCALENDAR
