BEGIN:VCALENDAR
VERSION:2.0
PRODID:-//Geflügelzüchter Datenbank//Schaukalender//DE
CALSCALE:GREGORIAN
METHOD:PUBLISH
BEGIN:VEVENT
UID:schau-8@rasse-gefluegel-zuechter.de
DTSTAMP:20260423T125902Z
DTSTART;VALUE=DATE:20261011
DTEND;VALUE=DATE:20261013
SUMMARY:Landesverbandsschau Hannover mit 50. Hache-Schau
LOCATION:Ausstellungsgelände Syke Syke\, Niedersachsen
DESCRIPTION:Landesverbandsschau Hannover kombiniert mit der Hache-Schau.
END:VEVENT
END:VCALENDAR
