BEGIN:VCALENDAR
VERSION:2.0
PRODID:-//Geflügelzüchter Datenbank//Schaukalender//DE
CALSCALE:GREGORIAN
METHOD:PUBLISH
BEGIN:VEVENT
UID:schau-9@rasse-gefluegel-zuechter.de
DTSTAMP:20260423T130008Z
DTSTART;VALUE=DATE:20261011
DTEND;VALUE=DATE:20261013
SUMMARY:Landesverbandsschau Westfalen-Lippe\, Landesverbands-Jugendschau
LOCATION:Zentralhallen Hamm Ökonomierat-Peitzmeier-Platz 2-4\, 59063 Hamm
DESCRIPTION:Landesverbandsschau und Jugendschau Westfalen-Lippe.
END:VEVENT
END:VCALENDAR
